BEGIN:VCALENDAR
VERSION:2.0
PRODID:-//Feddy Girls Owerri Canada - ECPv6.15.20//NONSGML v1.0//EN
CALSCALE:GREGORIAN
METHOD:PUBLISH
X-ORIGINAL-URL:https://feddygirlsowerricanada.com
X-WR-CALDESC:Events for Feddy Girls Owerri Canada
REFRESH-INTERVAL;VALUE=DURATION:PT1H
X-Robots-Tag:noindex
X-PUBLISHED-TTL:PT1H
BEGIN:VTIMEZONE
TZID:America/New_York
BEGIN:DAYLIGHT
TZOFFSETFROM:-0500
TZOFFSETTO:-0400
TZNAME:EDT
DTSTART:20230312T070000
END:DAYLIGHT
BEGIN:STANDARD
TZOFFSETFROM:-0400
TZOFFSETTO:-0500
TZNAME:EST
DTSTART:20231105T060000
END:STANDARD
BEGIN:DAYLIGHT
TZOFFSETFROM:-0500
TZOFFSETTO:-0400
TZNAME:EDT
DTSTART:20240310T070000
END:DAYLIGHT
BEGIN:STANDARD
TZOFFSETFROM:-0400
TZOFFSETTO:-0500
TZNAME:EST
DTSTART:20241103T060000
END:STANDARD
BEGIN:DAYLIGHT
TZOFFSETFROM:-0500
TZOFFSETTO:-0400
TZNAME:EDT
DTSTART:20250309T070000
END:DAYLIGHT
BEGIN:STANDARD
TZOFFSETFROM:-0400
TZOFFSETTO:-0500
TZNAME:EST
DTSTART:20251102T060000
END:STANDARD
END:VTIMEZONE
BEGIN:VTIMEZONE
TZID:UTC
BEGIN:STANDARD
TZOFFSETFROM:+0000
TZOFFSETTO:+0000
TZNAME:UTC
DTSTART:20210101T000000
END:STANDARD
END:VTIMEZONE
BEGIN:VEVENT
DTSTART;TZID=America/New_York:20240801T080000
DTEND;TZID=America/New_York:20240804T170000
DTSTAMP:20260423T153903
CREATED:20240331T024249Z
LAST-MODIFIED:20240331T030503Z
UID:238-1722499200-1722790800@feddygirlsowerricanada.com
SUMMARY:FGGC Owerri USA Canada Reunion 2024 - Aug 1- 4\, 2024
DESCRIPTION:                              
URL:https://feddygirlsowerricanada.com/event/fggc-owerri-us-canada-reunion-2024/
LOCATION:FGGC Owerri US Canada Reunion\, Ontario\, Canada
ATTACH;FMTTYPE=image/jpeg:https://feddygirlsowerricanada.com/wp-content/uploads/2024/03/PHOTO-2024-02-20-14-54-22_12.jpg
END:VEVENT
BEGIN:VEVENT
DTSTART;TZID=UTC:20231101T000000
DTEND;TZID=UTC:20231105T235959
DTSTAMP:20260423T153903
CREATED:20240404T183344Z
LAST-MODIFIED:20240404T183444Z
UID:275-1698796800-1699228799@feddygirlsowerricanada.com
SUMMARY:FGGC Owerri Golden Jubilee - Global Reunion
DESCRIPTION:
URL:https://feddygirlsowerricanada.com/event/fggc-owerri-golden-jubilee-global-reunion/
LOCATION:Owerri Nigeria\, Owerri\, Imo State\, Nigeria
ATTACH;FMTTYPE=image/png:https://feddygirlsowerricanada.com/wp-content/uploads/2024/04/download-5.png
END:VEVENT
BEGIN:VEVENT
DTSTART;TZID=UTC:20221013T000000
DTEND;TZID=UTC:20221016T235959
DTSTAMP:20260423T153903
CREATED:20240404T193253Z
LAST-MODIFIED:20240404T193410Z
UID:284-1665619200-1665964799@feddygirlsowerricanada.com
SUMMARY:FGGC Owerri USA Canada 2022
DESCRIPTION:     
URL:https://feddygirlsowerricanada.com/event/fggc-owerri-usa-canada-2022/
LOCATION:FGGC Owerri US Canada Reunion\, Ontario\, Canada
ATTACH;FMTTYPE=image/jpeg:https://feddygirlsowerricanada.com/wp-content/uploads/2024/04/image0-17.jpeg
END:VEVENT
END:VCALENDAR